BEGIN:VCALENDAR
VERSION:2.0
PRODID:-//Centering Space - ECPv6.15.13.1//NONSGML v1.0//EN
CALSCALE:GREGORIAN
METHOD:PUBLISH
X-WR-CALNAME:Centering Space
X-ORIGINAL-URL:https://centeringspace.org
X-WR-CALDESC:Events for Centering Space
REFRESH-INTERVAL;VALUE=DURATION:PT1H
X-Robots-Tag:noindex
X-PUBLISHED-TTL:PT1H
BEGIN:VTIMEZONE
TZID:America/New_York
BEGIN:DAYLIGHT
TZOFFSETFROM:-0500
TZOFFSETTO:-0400
TZNAME:EDT
DTSTART:20250309T070000
END:DAYLIGHT
BEGIN:STANDARD
TZOFFSETFROM:-0400
TZOFFSETTO:-0500
TZNAME:EST
DTSTART:20251102T060000
END:STANDARD
BEGIN:DAYLIGHT
TZOFFSETFROM:-0500
TZOFFSETTO:-0400
TZNAME:EDT
DTSTART:20260308T070000
END:DAYLIGHT
BEGIN:STANDARD
TZOFFSETFROM:-0400
TZOFFSETTO:-0500
TZNAME:EST
DTSTART:20261101T060000
END:STANDARD
BEGIN:DAYLIGHT
TZOFFSETFROM:-0500
TZOFFSETTO:-0400
TZNAME:EDT
DTSTART:20270314T070000
END:DAYLIGHT
BEGIN:STANDARD
TZOFFSETFROM:-0400
TZOFFSETTO:-0500
TZNAME:EST
DTSTART:20271107T060000
END:STANDARD
END:VTIMEZONE
BEGIN:VEVENT
DTSTART;TZID=America/New_York:20260621T190000
DTEND;TZID=America/New_York:20260621T200000
DTSTAMP:20260420T013048
CREATED:20260317T154931Z
LAST-MODIFIED:20260317T155702Z
UID:10005721-1782068400-1782072000@centeringspace.org
SUMMARY:Taize
DESCRIPTION:There is something magical about our outdoor Taizé gatherings  – the sunset\, the Christ fire\, our chanting with birdsong. Join us in the peaceful presence of these sacred evenings! Let us know you are coming so that we have enough materials available.  \nDonations support Centering Space. \n\n\n\n \nPowered by
URL:https://centeringspace.org/programs/taize/2026-06-21/
LOCATION:14321 Detroit Avenue\, Lakewood\, OH 44107
ATTACH;FMTTYPE=image/jpeg:https://centeringspace.org/wp-content/uploads/2026/03/489567061_1098984395601242_4436430533309319936_n-e1773762909623.jpg
END:VEVENT
BEGIN:VEVENT
DTSTART;TZID=America/New_York:20260719T190000
DTEND;TZID=America/New_York:20260719T200000
DTSTAMP:20260420T013048
CREATED:20260317T154931Z
LAST-MODIFIED:20260317T155702Z
UID:10005722-1784487600-1784491200@centeringspace.org
SUMMARY:Taize
DESCRIPTION:There is something magical about our outdoor Taizé gatherings  – the sunset\, the Christ fire\, our chanting with birdsong. Join us in the peaceful presence of these sacred evenings! Let us know you are coming so that we have enough materials available.  \nDonations support Centering Space. \n\n\n\n \nPowered by
URL:https://centeringspace.org/programs/taize/2026-07-19/
LOCATION:14321 Detroit Avenue\, Lakewood\, OH 44107
ATTACH;FMTTYPE=image/jpeg:https://centeringspace.org/wp-content/uploads/2026/03/489567061_1098984395601242_4436430533309319936_n-e1773762909623.jpg
END:VEVENT
BEGIN:VEVENT
DTSTART;TZID=America/New_York:20260823T190000
DTEND;TZID=America/New_York:20260823T200000
DTSTAMP:20260420T013048
CREATED:20260317T160058Z
LAST-MODIFIED:20260317T160058Z
UID:10005723-1787511600-1787515200@centeringspace.org
SUMMARY:Taize
DESCRIPTION:There is something magical about our outdoor Taizé gatherings  – the sunset\, the Christ fire\, our chanting with birdsong. Join us in the peaceful presence of these sacred evenings! Let us know you are coming so that we have enough materials available.  \nDonations support Centering Space. \n\n\n\n \nPowered by
URL:https://centeringspace.org/programs/taize-2/
LOCATION:14321 Detroit Avenue\, Lakewood\, OH 44107
ATTACH;FMTTYPE=image/jpeg:https://centeringspace.org/wp-content/uploads/2026/03/489567061_1098984395601242_4436430533309319936_n-e1773762909623.jpg
END:VEVENT
END:VCALENDAR