BEGIN:VCALENDAR
VERSION:2.0
PRODID:-//Centering Space - ECPv6.15.13.1//NONSGML v1.0//EN
CALSCALE:GREGORIAN
METHOD:PUBLISH
X-WR-CALNAME:Centering Space
X-ORIGINAL-URL:https://centeringspace.org
X-WR-CALDESC:Events for Centering Space
REFRESH-INTERVAL;VALUE=DURATION:PT1H
X-Robots-Tag:noindex
X-PUBLISHED-TTL:PT1H
BEGIN:VTIMEZONE
TZID:America/New_York
BEGIN:DAYLIGHT
TZOFFSETFROM:-0500
TZOFFSETTO:-0400
TZNAME:EDT
DTSTART:20250309T070000
END:DAYLIGHT
BEGIN:STANDARD
TZOFFSETFROM:-0400
TZOFFSETTO:-0500
TZNAME:EST
DTSTART:20251102T060000
END:STANDARD
BEGIN:DAYLIGHT
TZOFFSETFROM:-0500
TZOFFSETTO:-0400
TZNAME:EDT
DTSTART:20260308T070000
END:DAYLIGHT
BEGIN:STANDARD
TZOFFSETFROM:-0400
TZOFFSETTO:-0500
TZNAME:EST
DTSTART:20261101T060000
END:STANDARD
BEGIN:DAYLIGHT
TZOFFSETFROM:-0500
TZOFFSETTO:-0400
TZNAME:EDT
DTSTART:20270314T070000
END:DAYLIGHT
BEGIN:STANDARD
TZOFFSETFROM:-0400
TZOFFSETTO:-0500
TZNAME:EST
DTSTART:20271107T060000
END:STANDARD
END:VTIMEZONE
BEGIN:VEVENT
DTSTART;TZID=America/New_York:20260427T190000
DTEND;TZID=America/New_York:20260427T203000
DTSTAMP:20260422T062036
CREATED:20260126T202050Z
LAST-MODIFIED:20260331T222557Z
UID:10004903-1777316400-1777321800@centeringspace.org
SUMMARY:Journaling Our Aging Adventure (Virtual)
DESCRIPTION:Mondays in April | 7-8:30 pm | Online via Zoom\nAs some have noted\, becoming a wisdom person is the definitive life task of our elder years\, when we find a wholeness about our lives. It is a stage of life new to humanity in the past 50 years\, as more of us live well beyond our official retirement age. Moving from just aging to embodying wisdom is an on-going process. \nWe will journal about our sage-ing in exploring  topics such as Living Gratefully\, Serving Life\, Reframing the Past\, etc. There will be short presentations\, several reflective writing periods of 10-15 minutes each\, guidance about journal keeping techniques\, and the sharing of insights among participants. \nPlease register in advance. \nFacilitated by Mike Reilng \nMike Reiling M.Ed.\, a retired theology teacher\, is now a spirituality educator who has led journaling programs on aging over the past 5 years. \nCentering Space provides a peaceful setting for spiritual renewal and connection with God. As an independent 501(c)(3)\, we depend on community support through fees\, donations\, grants\, and gifts to continue our mission.
URL:https://centeringspace.org/programs/journaling-our-aging-adventure-online-only-3/
LOCATION:Zoom – Register for Link\, On Zoom\, OH
ATTACH;FMTTYPE=image/png:https://centeringspace.org/wp-content/uploads/2026/02/journaling-our-aging-adventure.png
END:VEVENT
END:VCALENDAR