BEGIN:VCALENDAR
VERSION:2.0
PRODID:-//Centering Space - ECPv6.15.13.1//NONSGML v1.0//EN
CALSCALE:GREGORIAN
METHOD:PUBLISH
X-WR-CALNAME:Centering Space
X-ORIGINAL-URL:https://centeringspace.org
X-WR-CALDESC:Events for Centering Space
REFRESH-INTERVAL;VALUE=DURATION:PT1H
X-Robots-Tag:noindex
X-PUBLISHED-TTL:PT1H
BEGIN:VTIMEZONE
TZID:America/New_York
BEGIN:DAYLIGHT
TZOFFSETFROM:-0500
TZOFFSETTO:-0400
TZNAME:EDT
DTSTART:20280312T070000
END:DAYLIGHT
BEGIN:STANDARD
TZOFFSETFROM:-0400
TZOFFSETTO:-0500
TZNAME:EST
DTSTART:20281105T060000
END:STANDARD
BEGIN:DAYLIGHT
TZOFFSETFROM:-0500
TZOFFSETTO:-0400
TZNAME:EDT
DTSTART:20290311T070000
END:DAYLIGHT
BEGIN:STANDARD
TZOFFSETFROM:-0400
TZOFFSETTO:-0500
TZNAME:EST
DTSTART:20291104T060000
END:STANDARD
BEGIN:DAYLIGHT
TZOFFSETFROM:-0500
TZOFFSETTO:-0400
TZNAME:EDT
DTSTART:20300310T070000
END:DAYLIGHT
BEGIN:STANDARD
TZOFFSETFROM:-0400
TZOFFSETTO:-0500
TZNAME:EST
DTSTART:20301103T060000
END:STANDARD
END:VTIMEZONE
BEGIN:VEVENT
DTSTART;TZID=America/New_York:20290213T190000
DTEND;TZID=America/New_York:20290213T200000
DTSTAMP:20260423T044934
CREATED:20260301T210632Z
LAST-MODIFIED:20260301T212104Z
UID:10003085-1865703600-1865707200@centeringspace.org
SUMMARY:Reflective Prayer #1 (In-Person & Virtual)
DESCRIPTION:Tuesdays 7-8 pm\nJoin us in-person\, or online\, for an evening of quiet reflective prayer. \nThe prayer includes input on a theme\, music\, silent reflection and optional sharing. \nThe same prayer experience is available both in-person and online via Zoom.* \n*Please email centeringspacelakewood@gmail.com if you need the Zoom link. \n\n\n  \nPowered by
URL:https://centeringspace.org/programs/reflective-prayer-740-3-2/2029-02-13/
LOCATION:Centering Space\, 14812 Lake Avenue\, Lakewood\, OH\, 44107\, United States
ATTACH;FMTTYPE=image/png:https://centeringspace.org/wp-content/uploads/2026/02/Reflective-prayer.png
END:VEVENT
BEGIN:VEVENT
DTSTART;TZID=America/New_York:20290214T133000
DTEND;TZID=America/New_York:20290214T143000
DTSTAMP:20260423T044934
CREATED:20260301T211507Z
LAST-MODIFIED:20260301T213332Z
UID:10005548-1865770200-1865773800@centeringspace.org
SUMMARY:Reflective Prayer #2 (In-Person & Virtual)
DESCRIPTION:Join us in-person\, or online\, for an hour of quiet reflective prayer. \nThe prayer includes input on a theme\, music\, silent reflection and optional sharing. \nThe same prayer experience is available both in-person and online via Zoom.* \n*Please email centeringspacelakewood@gmail.com if you need the Zoom link. \n\n\n  \nPowered by
URL:https://centeringspace.org/programs/reflective-prayer-13-2/2029-02-14/
LOCATION:Centering Space\, 14812 Lake Avenue\, Lakewood\, OH\, 44107\, United States
ATTACH;FMTTYPE=image/png:https://centeringspace.org/wp-content/uploads/2026/02/Reflective-prayer.png
END:VEVENT
BEGIN:VEVENT
DTSTART;TZID=America/New_York:20290217T150000
DTEND;TZID=America/New_York:20290217T163000
DTSTAMP:20260423T044934
CREATED:20260301T203113Z
LAST-MODIFIED:20260301T204751Z
UID:10005357-1866034800-1866040200@centeringspace.org
SUMMARY:Drum Circle
DESCRIPTION:Every 3rd Saturday | 3-4:30 pm\nBring your own drum or borrow one of ours. \nBring a friend and a creative spirit…and enjoy! \n\n\n\n \nPowered by
URL:https://centeringspace.org/programs/drum-circle-35-2-2/2029-02-17/
LOCATION:Centering Space\, 14812 Lake Avenue\, Lakewood\, OH\, 44107\, United States
ATTACH;FMTTYPE=image/png:https://centeringspace.org/wp-content/uploads/2026/02/Drum-Circle.png
END:VEVENT
BEGIN:VEVENT
DTSTART;TZID=America/New_York:20290220T190000
DTEND;TZID=America/New_York:20290220T200000
DTSTAMP:20260423T044934
CREATED:20260301T210632Z
LAST-MODIFIED:20260301T212104Z
UID:10003086-1866308400-1866312000@centeringspace.org
SUMMARY:Reflective Prayer #1 (In-Person & Virtual)
DESCRIPTION:Tuesdays 7-8 pm\nJoin us in-person\, or online\, for an evening of quiet reflective prayer. \nThe prayer includes input on a theme\, music\, silent reflection and optional sharing. \nThe same prayer experience is available both in-person and online via Zoom.* \n*Please email centeringspacelakewood@gmail.com if you need the Zoom link. \n\n\n  \nPowered by
URL:https://centeringspace.org/programs/reflective-prayer-740-3-2/2029-02-20/
LOCATION:Centering Space\, 14812 Lake Avenue\, Lakewood\, OH\, 44107\, United States
ATTACH;FMTTYPE=image/png:https://centeringspace.org/wp-content/uploads/2026/02/Reflective-prayer.png
END:VEVENT
BEGIN:VEVENT
DTSTART;TZID=America/New_York:20290221T133000
DTEND;TZID=America/New_York:20290221T143000
DTSTAMP:20260423T044934
CREATED:20260301T211507Z
LAST-MODIFIED:20260301T213332Z
UID:10005549-1866375000-1866378600@centeringspace.org
SUMMARY:Reflective Prayer #2 (In-Person & Virtual)
DESCRIPTION:Join us in-person\, or online\, for an hour of quiet reflective prayer. \nThe prayer includes input on a theme\, music\, silent reflection and optional sharing. \nThe same prayer experience is available both in-person and online via Zoom.* \n*Please email centeringspacelakewood@gmail.com if you need the Zoom link. \n\n\n  \nPowered by
URL:https://centeringspace.org/programs/reflective-prayer-13-2/2029-02-21/
LOCATION:Centering Space\, 14812 Lake Avenue\, Lakewood\, OH\, 44107\, United States
ATTACH;FMTTYPE=image/png:https://centeringspace.org/wp-content/uploads/2026/02/Reflective-prayer.png
END:VEVENT
BEGIN:VEVENT
DTSTART;TZID=America/New_York:20290227T190000
DTEND;TZID=America/New_York:20290227T200000
DTSTAMP:20260423T044934
CREATED:20260301T210632Z
LAST-MODIFIED:20260301T212104Z
UID:10003087-1866913200-1866916800@centeringspace.org
SUMMARY:Reflective Prayer #1 (In-Person & Virtual)
DESCRIPTION:Tuesdays 7-8 pm\nJoin us in-person\, or online\, for an evening of quiet reflective prayer. \nThe prayer includes input on a theme\, music\, silent reflection and optional sharing. \nThe same prayer experience is available both in-person and online via Zoom.* \n*Please email centeringspacelakewood@gmail.com if you need the Zoom link. \n\n\n  \nPowered by
URL:https://centeringspace.org/programs/reflective-prayer-740-3-2/2029-02-27/
LOCATION:Centering Space\, 14812 Lake Avenue\, Lakewood\, OH\, 44107\, United States
ATTACH;FMTTYPE=image/png:https://centeringspace.org/wp-content/uploads/2026/02/Reflective-prayer.png
END:VEVENT
BEGIN:VEVENT
DTSTART;TZID=America/New_York:20290228T133000
DTEND;TZID=America/New_York:20290228T143000
DTSTAMP:20260423T044934
CREATED:20260301T211507Z
LAST-MODIFIED:20260301T213332Z
UID:10005550-1866979800-1866983400@centeringspace.org
SUMMARY:Reflective Prayer #2 (In-Person & Virtual)
DESCRIPTION:Join us in-person\, or online\, for an hour of quiet reflective prayer. \nThe prayer includes input on a theme\, music\, silent reflection and optional sharing. \nThe same prayer experience is available both in-person and online via Zoom.* \n*Please email centeringspacelakewood@gmail.com if you need the Zoom link. \n\n\n  \nPowered by
URL:https://centeringspace.org/programs/reflective-prayer-13-2/2029-02-28/
LOCATION:Centering Space\, 14812 Lake Avenue\, Lakewood\, OH\, 44107\, United States
ATTACH;FMTTYPE=image/png:https://centeringspace.org/wp-content/uploads/2026/02/Reflective-prayer.png
END:VEVENT
BEGIN:VEVENT
DTSTART;TZID=America/New_York:20290302T180000
DTEND;TZID=America/New_York:20290302T190000
DTSTAMP:20260423T044934
CREATED:20260126T202353Z
LAST-MODIFIED:20260227T171226Z
UID:10004941-1867168800-1867172400@centeringspace.org
SUMMARY:Dances of Universal Peace
DESCRIPTION:1st Fridays | 6-7 pm\nThe Dances of Universal Peace are spiritual practice in motion. Drawing on the sacred phrases\, scripture\, and poetry of the many spiritual traditions of the earth\, the Dances blend chant\, live music and movement into a living experience of unity and peace. \nJoin us in simple circle dances that express devotion to the Creator of the Universe. \nNo experience necessary. The lyrics and movements are easy to learn and gentle to follow.  Open your life to a new practice of gratitude and love. \nDonations will go to Centering Space and Hope House of Prayer \n\n\n\n \nPowered by
URL:https://centeringspace.org/programs/dances-of-universal-peace-4/2029-03-02/
LOCATION:Centering Space\, 14812 Lake Avenue\, Lakewood\, OH\, 44107\, United States
ATTACH;FMTTYPE=image/png:https://centeringspace.org/wp-content/uploads/2026/02/Dances-of-Universal-Peace.png
END:VEVENT
BEGIN:VEVENT
DTSTART;TZID=America/New_York:20290306T190000
DTEND;TZID=America/New_York:20290306T200000
DTSTAMP:20260423T044934
CREATED:20260301T210632Z
LAST-MODIFIED:20260301T212104Z
UID:10003088-1867518000-1867521600@centeringspace.org
SUMMARY:Reflective Prayer #1 (In-Person & Virtual)
DESCRIPTION:Tuesdays 7-8 pm\nJoin us in-person\, or online\, for an evening of quiet reflective prayer. \nThe prayer includes input on a theme\, music\, silent reflection and optional sharing. \nThe same prayer experience is available both in-person and online via Zoom.* \n*Please email centeringspacelakewood@gmail.com if you need the Zoom link. \n\n\n  \nPowered by
URL:https://centeringspace.org/programs/reflective-prayer-740-3-2/2029-03-06/
LOCATION:Centering Space\, 14812 Lake Avenue\, Lakewood\, OH\, 44107\, United States
ATTACH;FMTTYPE=image/png:https://centeringspace.org/wp-content/uploads/2026/02/Reflective-prayer.png
END:VEVENT
BEGIN:VEVENT
DTSTART;TZID=America/New_York:20290307T133000
DTEND;TZID=America/New_York:20290307T143000
DTSTAMP:20260423T044934
CREATED:20260301T211507Z
LAST-MODIFIED:20260301T213332Z
UID:10005551-1867584600-1867588200@centeringspace.org
SUMMARY:Reflective Prayer #2 (In-Person & Virtual)
DESCRIPTION:Join us in-person\, or online\, for an hour of quiet reflective prayer. \nThe prayer includes input on a theme\, music\, silent reflection and optional sharing. \nThe same prayer experience is available both in-person and online via Zoom.* \n*Please email centeringspacelakewood@gmail.com if you need the Zoom link. \n\n\n  \nPowered by
URL:https://centeringspace.org/programs/reflective-prayer-13-2/2029-03-07/
LOCATION:Centering Space\, 14812 Lake Avenue\, Lakewood\, OH\, 44107\, United States
ATTACH;FMTTYPE=image/png:https://centeringspace.org/wp-content/uploads/2026/02/Reflective-prayer.png
END:VEVENT
BEGIN:VEVENT
DTSTART;TZID=America/New_York:20290308T180000
DTEND;TZID=America/New_York:20290308T193000
DTSTAMP:20260423T044934
CREATED:20260217T230933Z
LAST-MODIFIED:20260301T205259Z
UID:10005237-1867687200-1867692600@centeringspace.org
SUMMARY:Adult Grief Support Group
DESCRIPTION:2nd Thursdays | 6-7:30 pm\nA gathering for those who have experienced the death of a loved one. \nGrief support groups provide a safe place to connect with other grievers\, express emotions\, receive education about grief and loss\, and learn new ways to problem-solve and cope with situations. \n\n\n  \nPowered by
URL:https://centeringspace.org/programs/adult-grief-support-group-5-2/2029-03-08/
LOCATION:Centering Space\, 14812 Lake Avenue\, Lakewood\, OH\, 44107\, United States
ATTACH;FMTTYPE=image/png:https://centeringspace.org/wp-content/uploads/2026/02/Grief-support-group.png
END:VEVENT
BEGIN:VEVENT
DTSTART;TZID=America/New_York:20290313T190000
DTEND;TZID=America/New_York:20290313T200000
DTSTAMP:20260423T044934
CREATED:20260301T210632Z
LAST-MODIFIED:20260301T212104Z
UID:10003089-1868122800-1868126400@centeringspace.org
SUMMARY:Reflective Prayer #1 (In-Person & Virtual)
DESCRIPTION:Tuesdays 7-8 pm\nJoin us in-person\, or online\, for an evening of quiet reflective prayer. \nThe prayer includes input on a theme\, music\, silent reflection and optional sharing. \nThe same prayer experience is available both in-person and online via Zoom.* \n*Please email centeringspacelakewood@gmail.com if you need the Zoom link. \n\n\n  \nPowered by
URL:https://centeringspace.org/programs/reflective-prayer-740-3-2/2029-03-13/
LOCATION:Centering Space\, 14812 Lake Avenue\, Lakewood\, OH\, 44107\, United States
ATTACH;FMTTYPE=image/png:https://centeringspace.org/wp-content/uploads/2026/02/Reflective-prayer.png
END:VEVENT
BEGIN:VEVENT
DTSTART;TZID=America/New_York:20290314T133000
DTEND;TZID=America/New_York:20290314T143000
DTSTAMP:20260423T044934
CREATED:20260301T211507Z
LAST-MODIFIED:20260301T213332Z
UID:10005552-1868189400-1868193000@centeringspace.org
SUMMARY:Reflective Prayer #2 (In-Person & Virtual)
DESCRIPTION:Join us in-person\, or online\, for an hour of quiet reflective prayer. \nThe prayer includes input on a theme\, music\, silent reflection and optional sharing. \nThe same prayer experience is available both in-person and online via Zoom.* \n*Please email centeringspacelakewood@gmail.com if you need the Zoom link. \n\n\n  \nPowered by
URL:https://centeringspace.org/programs/reflective-prayer-13-2/2029-03-14/
LOCATION:Centering Space\, 14812 Lake Avenue\, Lakewood\, OH\, 44107\, United States
ATTACH;FMTTYPE=image/png:https://centeringspace.org/wp-content/uploads/2026/02/Reflective-prayer.png
END:VEVENT
BEGIN:VEVENT
DTSTART;TZID=America/New_York:20290317T150000
DTEND;TZID=America/New_York:20290317T163000
DTSTAMP:20260423T044934
CREATED:20260301T203113Z
LAST-MODIFIED:20260301T204751Z
UID:10005358-1868454000-1868459400@centeringspace.org
SUMMARY:Drum Circle
DESCRIPTION:Every 3rd Saturday | 3-4:30 pm\nBring your own drum or borrow one of ours. \nBring a friend and a creative spirit…and enjoy! \n\n\n\n \nPowered by
URL:https://centeringspace.org/programs/drum-circle-35-2-2/2029-03-17/
LOCATION:Centering Space\, 14812 Lake Avenue\, Lakewood\, OH\, 44107\, United States
ATTACH;FMTTYPE=image/png:https://centeringspace.org/wp-content/uploads/2026/02/Drum-Circle.png
END:VEVENT
BEGIN:VEVENT
DTSTART;TZID=America/New_York:20290320T190000
DTEND;TZID=America/New_York:20290320T200000
DTSTAMP:20260423T044934
CREATED:20260301T210632Z
LAST-MODIFIED:20260301T212104Z
UID:10003090-1868727600-1868731200@centeringspace.org
SUMMARY:Reflective Prayer #1 (In-Person & Virtual)
DESCRIPTION:Tuesdays 7-8 pm\nJoin us in-person\, or online\, for an evening of quiet reflective prayer. \nThe prayer includes input on a theme\, music\, silent reflection and optional sharing. \nThe same prayer experience is available both in-person and online via Zoom.* \n*Please email centeringspacelakewood@gmail.com if you need the Zoom link. \n\n\n  \nPowered by
URL:https://centeringspace.org/programs/reflective-prayer-740-3-2/2029-03-20/
LOCATION:Centering Space\, 14812 Lake Avenue\, Lakewood\, OH\, 44107\, United States
ATTACH;FMTTYPE=image/png:https://centeringspace.org/wp-content/uploads/2026/02/Reflective-prayer.png
END:VEVENT
BEGIN:VEVENT
DTSTART;TZID=America/New_York:20290321T133000
DTEND;TZID=America/New_York:20290321T143000
DTSTAMP:20260423T044934
CREATED:20260301T211507Z
LAST-MODIFIED:20260301T213332Z
UID:10005553-1868794200-1868797800@centeringspace.org
SUMMARY:Reflective Prayer #2 (In-Person & Virtual)
DESCRIPTION:Join us in-person\, or online\, for an hour of quiet reflective prayer. \nThe prayer includes input on a theme\, music\, silent reflection and optional sharing. \nThe same prayer experience is available both in-person and online via Zoom.* \n*Please email centeringspacelakewood@gmail.com if you need the Zoom link. \n\n\n  \nPowered by
URL:https://centeringspace.org/programs/reflective-prayer-13-2/2029-03-21/
LOCATION:Centering Space\, 14812 Lake Avenue\, Lakewood\, OH\, 44107\, United States
ATTACH;FMTTYPE=image/png:https://centeringspace.org/wp-content/uploads/2026/02/Reflective-prayer.png
END:VEVENT
BEGIN:VEVENT
DTSTART;TZID=America/New_York:20290327T190000
DTEND;TZID=America/New_York:20290327T200000
DTSTAMP:20260423T044934
CREATED:20260301T210632Z
LAST-MODIFIED:20260301T212104Z
UID:10003091-1869332400-1869336000@centeringspace.org
SUMMARY:Reflective Prayer #1 (In-Person & Virtual)
DESCRIPTION:Tuesdays 7-8 pm\nJoin us in-person\, or online\, for an evening of quiet reflective prayer. \nThe prayer includes input on a theme\, music\, silent reflection and optional sharing. \nThe same prayer experience is available both in-person and online via Zoom.* \n*Please email centeringspacelakewood@gmail.com if you need the Zoom link. \n\n\n  \nPowered by
URL:https://centeringspace.org/programs/reflective-prayer-740-3-2/2029-03-27/
LOCATION:Centering Space\, 14812 Lake Avenue\, Lakewood\, OH\, 44107\, United States
ATTACH;FMTTYPE=image/png:https://centeringspace.org/wp-content/uploads/2026/02/Reflective-prayer.png
END:VEVENT
BEGIN:VEVENT
DTSTART;TZID=America/New_York:20290328T133000
DTEND;TZID=America/New_York:20290328T143000
DTSTAMP:20260423T044934
CREATED:20260301T211507Z
LAST-MODIFIED:20260301T213332Z
UID:10005554-1869399000-1869402600@centeringspace.org
SUMMARY:Reflective Prayer #2 (In-Person & Virtual)
DESCRIPTION:Join us in-person\, or online\, for an hour of quiet reflective prayer. \nThe prayer includes input on a theme\, music\, silent reflection and optional sharing. \nThe same prayer experience is available both in-person and online via Zoom.* \n*Please email centeringspacelakewood@gmail.com if you need the Zoom link. \n\n\n  \nPowered by
URL:https://centeringspace.org/programs/reflective-prayer-13-2/2029-03-28/
LOCATION:Centering Space\, 14812 Lake Avenue\, Lakewood\, OH\, 44107\, United States
ATTACH;FMTTYPE=image/png:https://centeringspace.org/wp-content/uploads/2026/02/Reflective-prayer.png
END:VEVENT
BEGIN:VEVENT
DTSTART;TZID=America/New_York:20290403T190000
DTEND;TZID=America/New_York:20290403T200000
DTSTAMP:20260423T044934
CREATED:20260301T210632Z
LAST-MODIFIED:20260301T212104Z
UID:10003092-1869937200-1869940800@centeringspace.org
SUMMARY:Reflective Prayer #1 (In-Person & Virtual)
DESCRIPTION:Tuesdays 7-8 pm\nJoin us in-person\, or online\, for an evening of quiet reflective prayer. \nThe prayer includes input on a theme\, music\, silent reflection and optional sharing. \nThe same prayer experience is available both in-person and online via Zoom.* \n*Please email centeringspacelakewood@gmail.com if you need the Zoom link. \n\n\n  \nPowered by
URL:https://centeringspace.org/programs/reflective-prayer-740-3-2/2029-04-03/
LOCATION:Centering Space\, 14812 Lake Avenue\, Lakewood\, OH\, 44107\, United States
ATTACH;FMTTYPE=image/png:https://centeringspace.org/wp-content/uploads/2026/02/Reflective-prayer.png
END:VEVENT
BEGIN:VEVENT
DTSTART;TZID=America/New_York:20290404T133000
DTEND;TZID=America/New_York:20290404T143000
DTSTAMP:20260423T044934
CREATED:20260301T211507Z
LAST-MODIFIED:20260301T213332Z
UID:10005555-1870003800-1870007400@centeringspace.org
SUMMARY:Reflective Prayer #2 (In-Person & Virtual)
DESCRIPTION:Join us in-person\, or online\, for an hour of quiet reflective prayer. \nThe prayer includes input on a theme\, music\, silent reflection and optional sharing. \nThe same prayer experience is available both in-person and online via Zoom.* \n*Please email centeringspacelakewood@gmail.com if you need the Zoom link. \n\n\n  \nPowered by
URL:https://centeringspace.org/programs/reflective-prayer-13-2/2029-04-04/
LOCATION:Centering Space\, 14812 Lake Avenue\, Lakewood\, OH\, 44107\, United States
ATTACH;FMTTYPE=image/png:https://centeringspace.org/wp-content/uploads/2026/02/Reflective-prayer.png
END:VEVENT
BEGIN:VEVENT
DTSTART;TZID=America/New_York:20290406T180000
DTEND;TZID=America/New_York:20290406T190000
DTSTAMP:20260423T044934
CREATED:20260126T202353Z
LAST-MODIFIED:20260227T171226Z
UID:10004942-1870192800-1870196400@centeringspace.org
SUMMARY:Dances of Universal Peace
DESCRIPTION:1st Fridays | 6-7 pm\nThe Dances of Universal Peace are spiritual practice in motion. Drawing on the sacred phrases\, scripture\, and poetry of the many spiritual traditions of the earth\, the Dances blend chant\, live music and movement into a living experience of unity and peace. \nJoin us in simple circle dances that express devotion to the Creator of the Universe. \nNo experience necessary. The lyrics and movements are easy to learn and gentle to follow.  Open your life to a new practice of gratitude and love. \nDonations will go to Centering Space and Hope House of Prayer \n\n\n\n \nPowered by
URL:https://centeringspace.org/programs/dances-of-universal-peace-4/2029-04-06/
LOCATION:Centering Space\, 14812 Lake Avenue\, Lakewood\, OH\, 44107\, United States
ATTACH;FMTTYPE=image/png:https://centeringspace.org/wp-content/uploads/2026/02/Dances-of-Universal-Peace.png
END:VEVENT
BEGIN:VEVENT
DTSTART;TZID=America/New_York:20290410T190000
DTEND;TZID=America/New_York:20290410T200000
DTSTAMP:20260423T044934
CREATED:20260301T210632Z
LAST-MODIFIED:20260301T212104Z
UID:10003093-1870542000-1870545600@centeringspace.org
SUMMARY:Reflective Prayer #1 (In-Person & Virtual)
DESCRIPTION:Tuesdays 7-8 pm\nJoin us in-person\, or online\, for an evening of quiet reflective prayer. \nThe prayer includes input on a theme\, music\, silent reflection and optional sharing. \nThe same prayer experience is available both in-person and online via Zoom.* \n*Please email centeringspacelakewood@gmail.com if you need the Zoom link. \n\n\n  \nPowered by
URL:https://centeringspace.org/programs/reflective-prayer-740-3-2/2029-04-10/
LOCATION:Centering Space\, 14812 Lake Avenue\, Lakewood\, OH\, 44107\, United States
ATTACH;FMTTYPE=image/png:https://centeringspace.org/wp-content/uploads/2026/02/Reflective-prayer.png
END:VEVENT
BEGIN:VEVENT
DTSTART;TZID=America/New_York:20290411T133000
DTEND;TZID=America/New_York:20290411T143000
DTSTAMP:20260423T044934
CREATED:20260301T211507Z
LAST-MODIFIED:20260301T213332Z
UID:10005556-1870608600-1870612200@centeringspace.org
SUMMARY:Reflective Prayer #2 (In-Person & Virtual)
DESCRIPTION:Join us in-person\, or online\, for an hour of quiet reflective prayer. \nThe prayer includes input on a theme\, music\, silent reflection and optional sharing. \nThe same prayer experience is available both in-person and online via Zoom.* \n*Please email centeringspacelakewood@gmail.com if you need the Zoom link. \n\n\n  \nPowered by
URL:https://centeringspace.org/programs/reflective-prayer-13-2/2029-04-11/
LOCATION:Centering Space\, 14812 Lake Avenue\, Lakewood\, OH\, 44107\, United States
ATTACH;FMTTYPE=image/png:https://centeringspace.org/wp-content/uploads/2026/02/Reflective-prayer.png
END:VEVENT
BEGIN:VEVENT
DTSTART;TZID=America/New_York:20290412T180000
DTEND;TZID=America/New_York:20290412T193000
DTSTAMP:20260423T044934
CREATED:20260217T230933Z
LAST-MODIFIED:20260301T205259Z
UID:10005183-1870711200-1870716600@centeringspace.org
SUMMARY:Adult Grief Support Group
DESCRIPTION:2nd Thursdays | 6-7:30 pm\nA gathering for those who have experienced the death of a loved one. \nGrief support groups provide a safe place to connect with other grievers\, express emotions\, receive education about grief and loss\, and learn new ways to problem-solve and cope with situations. \n\n\n  \nPowered by
URL:https://centeringspace.org/programs/adult-grief-support-group-5-2/2029-04-12/
LOCATION:Centering Space\, 14812 Lake Avenue\, Lakewood\, OH\, 44107\, United States
ATTACH;FMTTYPE=image/png:https://centeringspace.org/wp-content/uploads/2026/02/Grief-support-group.png
END:VEVENT
BEGIN:VEVENT
DTSTART;TZID=America/New_York:20290417T190000
DTEND;TZID=America/New_York:20290417T200000
DTSTAMP:20260423T044934
CREATED:20260301T210632Z
LAST-MODIFIED:20260301T212104Z
UID:10003094-1871146800-1871150400@centeringspace.org
SUMMARY:Reflective Prayer #1 (In-Person & Virtual)
DESCRIPTION:Tuesdays 7-8 pm\nJoin us in-person\, or online\, for an evening of quiet reflective prayer. \nThe prayer includes input on a theme\, music\, silent reflection and optional sharing. \nThe same prayer experience is available both in-person and online via Zoom.* \n*Please email centeringspacelakewood@gmail.com if you need the Zoom link. \n\n\n  \nPowered by
URL:https://centeringspace.org/programs/reflective-prayer-740-3-2/2029-04-17/
LOCATION:Centering Space\, 14812 Lake Avenue\, Lakewood\, OH\, 44107\, United States
ATTACH;FMTTYPE=image/png:https://centeringspace.org/wp-content/uploads/2026/02/Reflective-prayer.png
END:VEVENT
BEGIN:VEVENT
DTSTART;TZID=America/New_York:20290418T133000
DTEND;TZID=America/New_York:20290418T143000
DTSTAMP:20260423T044934
CREATED:20260301T211507Z
LAST-MODIFIED:20260301T213332Z
UID:10005557-1871213400-1871217000@centeringspace.org
SUMMARY:Reflective Prayer #2 (In-Person & Virtual)
DESCRIPTION:Join us in-person\, or online\, for an hour of quiet reflective prayer. \nThe prayer includes input on a theme\, music\, silent reflection and optional sharing. \nThe same prayer experience is available both in-person and online via Zoom.* \n*Please email centeringspacelakewood@gmail.com if you need the Zoom link. \n\n\n  \nPowered by
URL:https://centeringspace.org/programs/reflective-prayer-13-2/2029-04-18/
LOCATION:Centering Space\, 14812 Lake Avenue\, Lakewood\, OH\, 44107\, United States
ATTACH;FMTTYPE=image/png:https://centeringspace.org/wp-content/uploads/2026/02/Reflective-prayer.png
END:VEVENT
BEGIN:VEVENT
DTSTART;TZID=America/New_York:20290421T150000
DTEND;TZID=America/New_York:20290421T163000
DTSTAMP:20260423T044934
CREATED:20260301T203113Z
LAST-MODIFIED:20260301T204751Z
UID:10005359-1871478000-1871483400@centeringspace.org
SUMMARY:Drum Circle
DESCRIPTION:Every 3rd Saturday | 3-4:30 pm\nBring your own drum or borrow one of ours. \nBring a friend and a creative spirit…and enjoy! \n\n\n\n \nPowered by
URL:https://centeringspace.org/programs/drum-circle-35-2-2/2029-04-21/
LOCATION:Centering Space\, 14812 Lake Avenue\, Lakewood\, OH\, 44107\, United States
ATTACH;FMTTYPE=image/png:https://centeringspace.org/wp-content/uploads/2026/02/Drum-Circle.png
END:VEVENT
BEGIN:VEVENT
DTSTART;TZID=America/New_York:20290424T190000
DTEND;TZID=America/New_York:20290424T200000
DTSTAMP:20260423T044934
CREATED:20260301T210632Z
LAST-MODIFIED:20260301T212104Z
UID:10003095-1871751600-1871755200@centeringspace.org
SUMMARY:Reflective Prayer #1 (In-Person & Virtual)
DESCRIPTION:Tuesdays 7-8 pm\nJoin us in-person\, or online\, for an evening of quiet reflective prayer. \nThe prayer includes input on a theme\, music\, silent reflection and optional sharing. \nThe same prayer experience is available both in-person and online via Zoom.* \n*Please email centeringspacelakewood@gmail.com if you need the Zoom link. \n\n\n  \nPowered by
URL:https://centeringspace.org/programs/reflective-prayer-740-3-2/2029-04-24/
LOCATION:Centering Space\, 14812 Lake Avenue\, Lakewood\, OH\, 44107\, United States
ATTACH;FMTTYPE=image/png:https://centeringspace.org/wp-content/uploads/2026/02/Reflective-prayer.png
END:VEVENT
BEGIN:VEVENT
DTSTART;TZID=America/New_York:20290425T133000
DTEND;TZID=America/New_York:20290425T143000
DTSTAMP:20260423T044934
CREATED:20260301T211507Z
LAST-MODIFIED:20260301T213332Z
UID:10005558-1871818200-1871821800@centeringspace.org
SUMMARY:Reflective Prayer #2 (In-Person & Virtual)
DESCRIPTION:Join us in-person\, or online\, for an hour of quiet reflective prayer. \nThe prayer includes input on a theme\, music\, silent reflection and optional sharing. \nThe same prayer experience is available both in-person and online via Zoom.* \n*Please email centeringspacelakewood@gmail.com if you need the Zoom link. \n\n\n  \nPowered by
URL:https://centeringspace.org/programs/reflective-prayer-13-2/2029-04-25/
LOCATION:Centering Space\, 14812 Lake Avenue\, Lakewood\, OH\, 44107\, United States
ATTACH;FMTTYPE=image/png:https://centeringspace.org/wp-content/uploads/2026/02/Reflective-prayer.png
END:VEVENT
BEGIN:VEVENT
DTSTART;TZID=America/New_York:20290501T190000
DTEND;TZID=America/New_York:20290501T200000
DTSTAMP:20260423T044934
CREATED:20260301T210632Z
LAST-MODIFIED:20260301T212104Z
UID:10003096-1872356400-1872360000@centeringspace.org
SUMMARY:Reflective Prayer #1 (In-Person & Virtual)
DESCRIPTION:Tuesdays 7-8 pm\nJoin us in-person\, or online\, for an evening of quiet reflective prayer. \nThe prayer includes input on a theme\, music\, silent reflection and optional sharing. \nThe same prayer experience is available both in-person and online via Zoom.* \n*Please email centeringspacelakewood@gmail.com if you need the Zoom link. \n\n\n  \nPowered by
URL:https://centeringspace.org/programs/reflective-prayer-740-3-2/2029-05-01/
LOCATION:Centering Space\, 14812 Lake Avenue\, Lakewood\, OH\, 44107\, United States
ATTACH;FMTTYPE=image/png:https://centeringspace.org/wp-content/uploads/2026/02/Reflective-prayer.png
END:VEVENT
END:VCALENDAR