BEGIN:VCALENDAR
VERSION:2.0
PRODID:-//Centering Space - ECPv6.15.13.1//NONSGML v1.0//EN
CALSCALE:GREGORIAN
METHOD:PUBLISH
X-WR-CALNAME:Centering Space
X-ORIGINAL-URL:https://centeringspace.org
X-WR-CALDESC:Events for Centering Space
REFRESH-INTERVAL;VALUE=DURATION:PT1H
X-Robots-Tag:noindex
X-PUBLISHED-TTL:PT1H
BEGIN:VTIMEZONE
TZID:America/New_York
BEGIN:DAYLIGHT
TZOFFSETFROM:-0500
TZOFFSETTO:-0400
TZNAME:EDT
DTSTART:20250309T070000
END:DAYLIGHT
BEGIN:STANDARD
TZOFFSETFROM:-0400
TZOFFSETTO:-0500
TZNAME:EST
DTSTART:20251102T060000
END:STANDARD
BEGIN:DAYLIGHT
TZOFFSETFROM:-0500
TZOFFSETTO:-0400
TZNAME:EDT
DTSTART:20260308T070000
END:DAYLIGHT
BEGIN:STANDARD
TZOFFSETFROM:-0400
TZOFFSETTO:-0500
TZNAME:EST
DTSTART:20261101T060000
END:STANDARD
BEGIN:DAYLIGHT
TZOFFSETFROM:-0500
TZOFFSETTO:-0400
TZNAME:EDT
DTSTART:20270314T070000
END:DAYLIGHT
BEGIN:STANDARD
TZOFFSETFROM:-0400
TZOFFSETTO:-0500
TZNAME:EST
DTSTART:20271107T060000
END:STANDARD
END:VTIMEZONE
BEGIN:VEVENT
DTSTART;TZID=America/New_York:20260617T190000
DTEND;TZID=America/New_York:20260617T200000
DTSTAMP:20260422T114519
CREATED:20260301T211700Z
LAST-MODIFIED:20260421T224734Z
UID:10003727-1781722800-1781726400@centeringspace.org
SUMMARY:Reflective Prayer #3 (Virtual Only)
DESCRIPTION:Wednesdays 7-8 pm ZOOM ONLY*\nJoin us online via Zoom for an evening of quiet reflective prayer. \nThe prayer includes input on a theme\, music\, silent reflection and optional sharing. \n*Please email centeringspacelakewood@gmail.com if you need the Zoom link. \n\n\n  \nPowered by
URL:https://centeringspace.org/programs/reflective-prayer-747-2-2-2-2/2026-06-17/
LOCATION:Zoom – Register for Link\, On Zoom\, OH
ATTACH;FMTTYPE=image/png:https://centeringspace.org/wp-content/uploads/2026/02/Reflective-prayer.png
END:VEVENT
BEGIN:VEVENT
DTSTART;TZID=America/New_York:20260622T190000
DTEND;TZID=America/New_York:20260622T203000
DTSTAMP:20260422T114519
CREATED:20260322T160649Z
LAST-MODIFIED:20260322T160649Z
UID:10005744-1782154800-1782160200@centeringspace.org
SUMMARY:Spiraling Upwards: How Levels of Consciousness Expand Our Lives (Virtual)
DESCRIPTION:We now know that we can experience a variety of states and stages of consciousness. Reality can be perceived differently. By understanding human consciousness as developing to richer levels\, a spiral dynamic\, we will see how our consciousness can affect the way we experience our relationships with others and our God. Ideas presented at this program are developed from  the consciousness spiral dynamics writings of Don Beck\, Christopher Cowan\, and Ken Wilber.
URL:https://centeringspace.org/programs/spiraling-upwards-how-levels-of-consciousness-expand-our-lives-virtual/
LOCATION:Zoom – Register for Link\, On Zoom\, OH
ATTACH;FMTTYPE=image/png:https://centeringspace.org/wp-content/uploads/2026/03/spiriling-upwards.png
END:VEVENT
BEGIN:VEVENT
DTSTART;TZID=America/New_York:20260624T190000
DTEND;TZID=America/New_York:20260624T200000
DTSTAMP:20260422T114519
CREATED:20260301T211700Z
LAST-MODIFIED:20260421T224734Z
UID:10003728-1782327600-1782331200@centeringspace.org
SUMMARY:Reflective Prayer #3 (Virtual Only)
DESCRIPTION:Wednesdays 7-8 pm ZOOM ONLY*\nJoin us online via Zoom for an evening of quiet reflective prayer. \nThe prayer includes input on a theme\, music\, silent reflection and optional sharing. \n*Please email centeringspacelakewood@gmail.com if you need the Zoom link. \n\n\n  \nPowered by
URL:https://centeringspace.org/programs/reflective-prayer-747-2-2-2-2/2026-06-24/
LOCATION:Zoom – Register for Link\, On Zoom\, OH
ATTACH;FMTTYPE=image/png:https://centeringspace.org/wp-content/uploads/2026/02/Reflective-prayer.png
END:VEVENT
BEGIN:VEVENT
DTSTART;TZID=America/New_York:20260629T190000
DTEND;TZID=America/New_York:20260629T203000
DTSTAMP:20260422T114519
CREATED:20260322T160755Z
LAST-MODIFIED:20260322T160755Z
UID:10005745-1782759600-1782765000@centeringspace.org
SUMMARY:Spiraling Upwards: How Levels of Consciousness Expand Our Lives (Virtual)
DESCRIPTION:We now know that we can experience a variety of states and stages of consciousness. Reality can be perceived differently. By understanding human consciousness as developing to richer levels\, a spiral dynamic\, we will see how our consciousness can affect the way we experience our relationships with others and our God. Ideas presented at this program are developed from  the consciousness spiral dynamics writings of Don Beck\, Christopher Cowan\, and Ken Wilber.
URL:https://centeringspace.org/programs/spiraling-upwards-how-levels-of-consciousness-expand-our-lives-virtual-2/
LOCATION:Zoom – Register for Link\, On Zoom\, OH
ATTACH;FMTTYPE=image/png:https://centeringspace.org/wp-content/uploads/2026/03/spiriling-upwards.png
END:VEVENT
BEGIN:VEVENT
DTSTART;TZID=America/New_York:20260701T190000
DTEND;TZID=America/New_York:20260701T200000
DTSTAMP:20260422T114519
CREATED:20260301T211700Z
LAST-MODIFIED:20260421T224734Z
UID:10003729-1782932400-1782936000@centeringspace.org
SUMMARY:Reflective Prayer #3 (Virtual Only)
DESCRIPTION:Wednesdays 7-8 pm ZOOM ONLY*\nJoin us online via Zoom for an evening of quiet reflective prayer. \nThe prayer includes input on a theme\, music\, silent reflection and optional sharing. \n*Please email centeringspacelakewood@gmail.com if you need the Zoom link. \n\n\n  \nPowered by
URL:https://centeringspace.org/programs/reflective-prayer-747-2-2-2-2/2026-07-01/
LOCATION:Zoom – Register for Link\, On Zoom\, OH
ATTACH;FMTTYPE=image/png:https://centeringspace.org/wp-content/uploads/2026/02/Reflective-prayer.png
END:VEVENT
BEGIN:VEVENT
DTSTART;TZID=America/New_York:20260708T190000
DTEND;TZID=America/New_York:20260708T200000
DTSTAMP:20260422T114519
CREATED:20260301T211700Z
LAST-MODIFIED:20260421T224734Z
UID:10003730-1783537200-1783540800@centeringspace.org
SUMMARY:Reflective Prayer #3 (Virtual Only)
DESCRIPTION:Wednesdays 7-8 pm ZOOM ONLY*\nJoin us online via Zoom for an evening of quiet reflective prayer. \nThe prayer includes input on a theme\, music\, silent reflection and optional sharing. \n*Please email centeringspacelakewood@gmail.com if you need the Zoom link. \n\n\n  \nPowered by
URL:https://centeringspace.org/programs/reflective-prayer-747-2-2-2-2/2026-07-08/
LOCATION:Zoom – Register for Link\, On Zoom\, OH
ATTACH;FMTTYPE=image/png:https://centeringspace.org/wp-content/uploads/2026/02/Reflective-prayer.png
END:VEVENT
BEGIN:VEVENT
DTSTART;TZID=America/New_York:20260713T190000
DTEND;TZID=America/New_York:20260713T203000
DTSTAMP:20260422T114519
CREATED:20260322T160814Z
LAST-MODIFIED:20260322T160814Z
UID:10005746-1783969200-1783974600@centeringspace.org
SUMMARY:Spiraling Upwards: How Levels of Consciousness Expand Our Lives (Virtual)
DESCRIPTION:We now know that we can experience a variety of states and stages of consciousness. Reality can be perceived differently. By understanding human consciousness as developing to richer levels\, a spiral dynamic\, we will see how our consciousness can affect the way we experience our relationships with others and our God. Ideas presented at this program are developed from  the consciousness spiral dynamics writings of Don Beck\, Christopher Cowan\, and Ken Wilber.
URL:https://centeringspace.org/programs/spiraling-upwards-how-levels-of-consciousness-expand-our-lives-virtual-3/
LOCATION:Zoom – Register for Link\, On Zoom\, OH
ATTACH;FMTTYPE=image/png:https://centeringspace.org/wp-content/uploads/2026/03/spiriling-upwards.png
END:VEVENT
BEGIN:VEVENT
DTSTART;TZID=America/New_York:20260715T190000
DTEND;TZID=America/New_York:20260715T200000
DTSTAMP:20260422T114519
CREATED:20260301T211700Z
LAST-MODIFIED:20260421T224734Z
UID:10003731-1784142000-1784145600@centeringspace.org
SUMMARY:Reflective Prayer #3 (Virtual Only)
DESCRIPTION:Wednesdays 7-8 pm ZOOM ONLY*\nJoin us online via Zoom for an evening of quiet reflective prayer. \nThe prayer includes input on a theme\, music\, silent reflection and optional sharing. \n*Please email centeringspacelakewood@gmail.com if you need the Zoom link. \n\n\n  \nPowered by
URL:https://centeringspace.org/programs/reflective-prayer-747-2-2-2-2/2026-07-15/
LOCATION:Zoom – Register for Link\, On Zoom\, OH
ATTACH;FMTTYPE=image/png:https://centeringspace.org/wp-content/uploads/2026/02/Reflective-prayer.png
END:VEVENT
BEGIN:VEVENT
DTSTART;TZID=America/New_York:20260722T190000
DTEND;TZID=America/New_York:20260722T200000
DTSTAMP:20260422T114519
CREATED:20260301T211700Z
LAST-MODIFIED:20260421T224734Z
UID:10003732-1784746800-1784750400@centeringspace.org
SUMMARY:Reflective Prayer #3 (Virtual Only)
DESCRIPTION:Wednesdays 7-8 pm ZOOM ONLY*\nJoin us online via Zoom for an evening of quiet reflective prayer. \nThe prayer includes input on a theme\, music\, silent reflection and optional sharing. \n*Please email centeringspacelakewood@gmail.com if you need the Zoom link. \n\n\n  \nPowered by
URL:https://centeringspace.org/programs/reflective-prayer-747-2-2-2-2/2026-07-22/
LOCATION:Zoom – Register for Link\, On Zoom\, OH
ATTACH;FMTTYPE=image/png:https://centeringspace.org/wp-content/uploads/2026/02/Reflective-prayer.png
END:VEVENT
BEGIN:VEVENT
DTSTART;TZID=America/New_York:20260729T190000
DTEND;TZID=America/New_York:20260729T200000
DTSTAMP:20260422T114519
CREATED:20260301T211700Z
LAST-MODIFIED:20260421T224734Z
UID:10003733-1785351600-1785355200@centeringspace.org
SUMMARY:Reflective Prayer #3 (Virtual Only)
DESCRIPTION:Wednesdays 7-8 pm ZOOM ONLY*\nJoin us online via Zoom for an evening of quiet reflective prayer. \nThe prayer includes input on a theme\, music\, silent reflection and optional sharing. \n*Please email centeringspacelakewood@gmail.com if you need the Zoom link. \n\n\n  \nPowered by
URL:https://centeringspace.org/programs/reflective-prayer-747-2-2-2-2/2026-07-29/
LOCATION:Zoom – Register for Link\, On Zoom\, OH
ATTACH;FMTTYPE=image/png:https://centeringspace.org/wp-content/uploads/2026/02/Reflective-prayer.png
END:VEVENT
BEGIN:VEVENT
DTSTART;TZID=America/New_York:20260805T190000
DTEND;TZID=America/New_York:20260805T200000
DTSTAMP:20260422T114519
CREATED:20260301T211700Z
LAST-MODIFIED:20260421T224734Z
UID:10003734-1785956400-1785960000@centeringspace.org
SUMMARY:Reflective Prayer #3 (Virtual Only)
DESCRIPTION:Wednesdays 7-8 pm ZOOM ONLY*\nJoin us online via Zoom for an evening of quiet reflective prayer. \nThe prayer includes input on a theme\, music\, silent reflection and optional sharing. \n*Please email centeringspacelakewood@gmail.com if you need the Zoom link. \n\n\n  \nPowered by
URL:https://centeringspace.org/programs/reflective-prayer-747-2-2-2-2/2026-08-05/
LOCATION:Zoom – Register for Link\, On Zoom\, OH
ATTACH;FMTTYPE=image/png:https://centeringspace.org/wp-content/uploads/2026/02/Reflective-prayer.png
END:VEVENT
BEGIN:VEVENT
DTSTART;TZID=America/New_York:20260812T190000
DTEND;TZID=America/New_York:20260812T200000
DTSTAMP:20260422T114519
CREATED:20260301T211700Z
LAST-MODIFIED:20260421T224734Z
UID:10003735-1786561200-1786564800@centeringspace.org
SUMMARY:Reflective Prayer #3 (Virtual Only)
DESCRIPTION:Wednesdays 7-8 pm ZOOM ONLY*\nJoin us online via Zoom for an evening of quiet reflective prayer. \nThe prayer includes input on a theme\, music\, silent reflection and optional sharing. \n*Please email centeringspacelakewood@gmail.com if you need the Zoom link. \n\n\n  \nPowered by
URL:https://centeringspace.org/programs/reflective-prayer-747-2-2-2-2/2026-08-12/
LOCATION:Zoom – Register for Link\, On Zoom\, OH
ATTACH;FMTTYPE=image/png:https://centeringspace.org/wp-content/uploads/2026/02/Reflective-prayer.png
END:VEVENT
BEGIN:VEVENT
DTSTART;TZID=America/New_York:20260819T190000
DTEND;TZID=America/New_York:20260819T200000
DTSTAMP:20260422T114519
CREATED:20260301T211700Z
LAST-MODIFIED:20260421T224734Z
UID:10003736-1787166000-1787169600@centeringspace.org
SUMMARY:Reflective Prayer #3 (Virtual Only)
DESCRIPTION:Wednesdays 7-8 pm ZOOM ONLY*\nJoin us online via Zoom for an evening of quiet reflective prayer. \nThe prayer includes input on a theme\, music\, silent reflection and optional sharing. \n*Please email centeringspacelakewood@gmail.com if you need the Zoom link. \n\n\n  \nPowered by
URL:https://centeringspace.org/programs/reflective-prayer-747-2-2-2-2/2026-08-19/
LOCATION:Zoom – Register for Link\, On Zoom\, OH
ATTACH;FMTTYPE=image/png:https://centeringspace.org/wp-content/uploads/2026/02/Reflective-prayer.png
END:VEVENT
BEGIN:VEVENT
DTSTART;TZID=America/New_York:20260826T190000
DTEND;TZID=America/New_York:20260826T200000
DTSTAMP:20260422T114519
CREATED:20260301T211700Z
LAST-MODIFIED:20260421T224734Z
UID:10003737-1787770800-1787774400@centeringspace.org
SUMMARY:Reflective Prayer #3 (Virtual Only)
DESCRIPTION:Wednesdays 7-8 pm ZOOM ONLY*\nJoin us online via Zoom for an evening of quiet reflective prayer. \nThe prayer includes input on a theme\, music\, silent reflection and optional sharing. \n*Please email centeringspacelakewood@gmail.com if you need the Zoom link. \n\n\n  \nPowered by
URL:https://centeringspace.org/programs/reflective-prayer-747-2-2-2-2/2026-08-26/
LOCATION:Zoom – Register for Link\, On Zoom\, OH
ATTACH;FMTTYPE=image/png:https://centeringspace.org/wp-content/uploads/2026/02/Reflective-prayer.png
END:VEVENT
BEGIN:VEVENT
DTSTART;TZID=America/New_York:20260902T190000
DTEND;TZID=America/New_York:20260902T200000
DTSTAMP:20260422T114519
CREATED:20260301T211700Z
LAST-MODIFIED:20260421T224734Z
UID:10003738-1788375600-1788379200@centeringspace.org
SUMMARY:Reflective Prayer #3 (Virtual Only)
DESCRIPTION:Wednesdays 7-8 pm ZOOM ONLY*\nJoin us online via Zoom for an evening of quiet reflective prayer. \nThe prayer includes input on a theme\, music\, silent reflection and optional sharing. \n*Please email centeringspacelakewood@gmail.com if you need the Zoom link. \n\n\n  \nPowered by
URL:https://centeringspace.org/programs/reflective-prayer-747-2-2-2-2/2026-09-02/
LOCATION:Zoom – Register for Link\, On Zoom\, OH
ATTACH;FMTTYPE=image/png:https://centeringspace.org/wp-content/uploads/2026/02/Reflective-prayer.png
END:VEVENT
BEGIN:VEVENT
DTSTART;TZID=America/New_York:20260909T190000
DTEND;TZID=America/New_York:20260909T200000
DTSTAMP:20260422T114519
CREATED:20260301T211700Z
LAST-MODIFIED:20260421T224734Z
UID:10003739-1788980400-1788984000@centeringspace.org
SUMMARY:Reflective Prayer #3 (Virtual Only)
DESCRIPTION:Wednesdays 7-8 pm ZOOM ONLY*\nJoin us online via Zoom for an evening of quiet reflective prayer. \nThe prayer includes input on a theme\, music\, silent reflection and optional sharing. \n*Please email centeringspacelakewood@gmail.com if you need the Zoom link. \n\n\n  \nPowered by
URL:https://centeringspace.org/programs/reflective-prayer-747-2-2-2-2/2026-09-09/
LOCATION:Zoom – Register for Link\, On Zoom\, OH
ATTACH;FMTTYPE=image/png:https://centeringspace.org/wp-content/uploads/2026/02/Reflective-prayer.png
END:VEVENT
BEGIN:VEVENT
DTSTART;TZID=America/New_York:20260916T190000
DTEND;TZID=America/New_York:20260916T200000
DTSTAMP:20260422T114519
CREATED:20260301T211700Z
LAST-MODIFIED:20260421T224734Z
UID:10003740-1789585200-1789588800@centeringspace.org
SUMMARY:Reflective Prayer #3 (Virtual Only)
DESCRIPTION:Wednesdays 7-8 pm ZOOM ONLY*\nJoin us online via Zoom for an evening of quiet reflective prayer. \nThe prayer includes input on a theme\, music\, silent reflection and optional sharing. \n*Please email centeringspacelakewood@gmail.com if you need the Zoom link. \n\n\n  \nPowered by
URL:https://centeringspace.org/programs/reflective-prayer-747-2-2-2-2/2026-09-16/
LOCATION:Zoom – Register for Link\, On Zoom\, OH
ATTACH;FMTTYPE=image/png:https://centeringspace.org/wp-content/uploads/2026/02/Reflective-prayer.png
END:VEVENT
BEGIN:VEVENT
DTSTART;TZID=America/New_York:20260923T190000
DTEND;TZID=America/New_York:20260923T200000
DTSTAMP:20260422T114519
CREATED:20260301T211700Z
LAST-MODIFIED:20260421T224734Z
UID:10003741-1790190000-1790193600@centeringspace.org
SUMMARY:Reflective Prayer #3 (Virtual Only)
DESCRIPTION:Wednesdays 7-8 pm ZOOM ONLY*\nJoin us online via Zoom for an evening of quiet reflective prayer. \nThe prayer includes input on a theme\, music\, silent reflection and optional sharing. \n*Please email centeringspacelakewood@gmail.com if you need the Zoom link. \n\n\n  \nPowered by
URL:https://centeringspace.org/programs/reflective-prayer-747-2-2-2-2/2026-09-23/
LOCATION:Zoom – Register for Link\, On Zoom\, OH
ATTACH;FMTTYPE=image/png:https://centeringspace.org/wp-content/uploads/2026/02/Reflective-prayer.png
END:VEVENT
BEGIN:VEVENT
DTSTART;TZID=America/New_York:20260930T190000
DTEND;TZID=America/New_York:20260930T200000
DTSTAMP:20260422T114519
CREATED:20260301T211700Z
LAST-MODIFIED:20260421T224734Z
UID:10003742-1790794800-1790798400@centeringspace.org
SUMMARY:Reflective Prayer #3 (Virtual Only)
DESCRIPTION:Wednesdays 7-8 pm ZOOM ONLY*\nJoin us online via Zoom for an evening of quiet reflective prayer. \nThe prayer includes input on a theme\, music\, silent reflection and optional sharing. \n*Please email centeringspacelakewood@gmail.com if you need the Zoom link. \n\n\n  \nPowered by
URL:https://centeringspace.org/programs/reflective-prayer-747-2-2-2-2/2026-09-30/
LOCATION:Zoom – Register for Link\, On Zoom\, OH
ATTACH;FMTTYPE=image/png:https://centeringspace.org/wp-content/uploads/2026/02/Reflective-prayer.png
END:VEVENT
BEGIN:VEVENT
DTSTART;TZID=America/New_York:20261007T190000
DTEND;TZID=America/New_York:20261007T200000
DTSTAMP:20260422T114519
CREATED:20260301T211700Z
LAST-MODIFIED:20260421T224734Z
UID:10003743-1791399600-1791403200@centeringspace.org
SUMMARY:Reflective Prayer #3 (Virtual Only)
DESCRIPTION:Wednesdays 7-8 pm ZOOM ONLY*\nJoin us online via Zoom for an evening of quiet reflective prayer. \nThe prayer includes input on a theme\, music\, silent reflection and optional sharing. \n*Please email centeringspacelakewood@gmail.com if you need the Zoom link. \n\n\n  \nPowered by
URL:https://centeringspace.org/programs/reflective-prayer-747-2-2-2-2/2026-10-07/
LOCATION:Zoom – Register for Link\, On Zoom\, OH
ATTACH;FMTTYPE=image/png:https://centeringspace.org/wp-content/uploads/2026/02/Reflective-prayer.png
END:VEVENT
BEGIN:VEVENT
DTSTART;TZID=America/New_York:20261014T190000
DTEND;TZID=America/New_York:20261014T200000
DTSTAMP:20260422T114519
CREATED:20260301T211700Z
LAST-MODIFIED:20260421T224734Z
UID:10003744-1792004400-1792008000@centeringspace.org
SUMMARY:Reflective Prayer #3 (Virtual Only)
DESCRIPTION:Wednesdays 7-8 pm ZOOM ONLY*\nJoin us online via Zoom for an evening of quiet reflective prayer. \nThe prayer includes input on a theme\, music\, silent reflection and optional sharing. \n*Please email centeringspacelakewood@gmail.com if you need the Zoom link. \n\n\n  \nPowered by
URL:https://centeringspace.org/programs/reflective-prayer-747-2-2-2-2/2026-10-14/
LOCATION:Zoom – Register for Link\, On Zoom\, OH
ATTACH;FMTTYPE=image/png:https://centeringspace.org/wp-content/uploads/2026/02/Reflective-prayer.png
END:VEVENT
BEGIN:VEVENT
DTSTART;TZID=America/New_York:20261021T190000
DTEND;TZID=America/New_York:20261021T200000
DTSTAMP:20260422T114519
CREATED:20260301T211700Z
LAST-MODIFIED:20260421T224734Z
UID:10003745-1792609200-1792612800@centeringspace.org
SUMMARY:Reflective Prayer #3 (Virtual Only)
DESCRIPTION:Wednesdays 7-8 pm ZOOM ONLY*\nJoin us online via Zoom for an evening of quiet reflective prayer. \nThe prayer includes input on a theme\, music\, silent reflection and optional sharing. \n*Please email centeringspacelakewood@gmail.com if you need the Zoom link. \n\n\n  \nPowered by
URL:https://centeringspace.org/programs/reflective-prayer-747-2-2-2-2/2026-10-21/
LOCATION:Zoom – Register for Link\, On Zoom\, OH
ATTACH;FMTTYPE=image/png:https://centeringspace.org/wp-content/uploads/2026/02/Reflective-prayer.png
END:VEVENT
BEGIN:VEVENT
DTSTART;TZID=America/New_York:20261028T190000
DTEND;TZID=America/New_York:20261028T200000
DTSTAMP:20260422T114519
CREATED:20260301T211700Z
LAST-MODIFIED:20260421T224734Z
UID:10003746-1793214000-1793217600@centeringspace.org
SUMMARY:Reflective Prayer #3 (Virtual Only)
DESCRIPTION:Wednesdays 7-8 pm ZOOM ONLY*\nJoin us online via Zoom for an evening of quiet reflective prayer. \nThe prayer includes input on a theme\, music\, silent reflection and optional sharing. \n*Please email centeringspacelakewood@gmail.com if you need the Zoom link. \n\n\n  \nPowered by
URL:https://centeringspace.org/programs/reflective-prayer-747-2-2-2-2/2026-10-28/
LOCATION:Zoom – Register for Link\, On Zoom\, OH
ATTACH;FMTTYPE=image/png:https://centeringspace.org/wp-content/uploads/2026/02/Reflective-prayer.png
END:VEVENT
BEGIN:VEVENT
DTSTART;TZID=America/New_York:20261104T190000
DTEND;TZID=America/New_York:20261104T200000
DTSTAMP:20260422T114519
CREATED:20260301T211700Z
LAST-MODIFIED:20260421T224734Z
UID:10003747-1793818800-1793822400@centeringspace.org
SUMMARY:Reflective Prayer #3 (Virtual Only)
DESCRIPTION:Wednesdays 7-8 pm ZOOM ONLY*\nJoin us online via Zoom for an evening of quiet reflective prayer. \nThe prayer includes input on a theme\, music\, silent reflection and optional sharing. \n*Please email centeringspacelakewood@gmail.com if you need the Zoom link. \n\n\n  \nPowered by
URL:https://centeringspace.org/programs/reflective-prayer-747-2-2-2-2/2026-11-04/
LOCATION:Zoom – Register for Link\, On Zoom\, OH
ATTACH;FMTTYPE=image/png:https://centeringspace.org/wp-content/uploads/2026/02/Reflective-prayer.png
END:VEVENT
BEGIN:VEVENT
DTSTART;TZID=America/New_York:20261111T190000
DTEND;TZID=America/New_York:20261111T200000
DTSTAMP:20260422T114519
CREATED:20260301T211700Z
LAST-MODIFIED:20260421T224734Z
UID:10003748-1794423600-1794427200@centeringspace.org
SUMMARY:Reflective Prayer #3 (Virtual Only)
DESCRIPTION:Wednesdays 7-8 pm ZOOM ONLY*\nJoin us online via Zoom for an evening of quiet reflective prayer. \nThe prayer includes input on a theme\, music\, silent reflection and optional sharing. \n*Please email centeringspacelakewood@gmail.com if you need the Zoom link. \n\n\n  \nPowered by
URL:https://centeringspace.org/programs/reflective-prayer-747-2-2-2-2/2026-11-11/
LOCATION:Zoom – Register for Link\, On Zoom\, OH
ATTACH;FMTTYPE=image/png:https://centeringspace.org/wp-content/uploads/2026/02/Reflective-prayer.png
END:VEVENT
BEGIN:VEVENT
DTSTART;TZID=America/New_York:20261118T190000
DTEND;TZID=America/New_York:20261118T200000
DTSTAMP:20260422T114519
CREATED:20260301T211700Z
LAST-MODIFIED:20260421T224734Z
UID:10003749-1795028400-1795032000@centeringspace.org
SUMMARY:Reflective Prayer #3 (Virtual Only)
DESCRIPTION:Wednesdays 7-8 pm ZOOM ONLY*\nJoin us online via Zoom for an evening of quiet reflective prayer. \nThe prayer includes input on a theme\, music\, silent reflection and optional sharing. \n*Please email centeringspacelakewood@gmail.com if you need the Zoom link. \n\n\n  \nPowered by
URL:https://centeringspace.org/programs/reflective-prayer-747-2-2-2-2/2026-11-18/
LOCATION:Zoom – Register for Link\, On Zoom\, OH
ATTACH;FMTTYPE=image/png:https://centeringspace.org/wp-content/uploads/2026/02/Reflective-prayer.png
END:VEVENT
BEGIN:VEVENT
DTSTART;TZID=America/New_York:20261125T190000
DTEND;TZID=America/New_York:20261125T200000
DTSTAMP:20260422T114519
CREATED:20260301T211700Z
LAST-MODIFIED:20260421T224734Z
UID:10003750-1795633200-1795636800@centeringspace.org
SUMMARY:Reflective Prayer #3 (Virtual Only)
DESCRIPTION:Wednesdays 7-8 pm ZOOM ONLY*\nJoin us online via Zoom for an evening of quiet reflective prayer. \nThe prayer includes input on a theme\, music\, silent reflection and optional sharing. \n*Please email centeringspacelakewood@gmail.com if you need the Zoom link. \n\n\n  \nPowered by
URL:https://centeringspace.org/programs/reflective-prayer-747-2-2-2-2/2026-11-25/
LOCATION:Zoom – Register for Link\, On Zoom\, OH
ATTACH;FMTTYPE=image/png:https://centeringspace.org/wp-content/uploads/2026/02/Reflective-prayer.png
END:VEVENT
BEGIN:VEVENT
DTSTART;TZID=America/New_York:20261202T190000
DTEND;TZID=America/New_York:20261202T200000
DTSTAMP:20260422T114519
CREATED:20260301T211700Z
LAST-MODIFIED:20260421T224734Z
UID:10003751-1796238000-1796241600@centeringspace.org
SUMMARY:Reflective Prayer #3 (Virtual Only)
DESCRIPTION:Wednesdays 7-8 pm ZOOM ONLY*\nJoin us online via Zoom for an evening of quiet reflective prayer. \nThe prayer includes input on a theme\, music\, silent reflection and optional sharing. \n*Please email centeringspacelakewood@gmail.com if you need the Zoom link. \n\n\n  \nPowered by
URL:https://centeringspace.org/programs/reflective-prayer-747-2-2-2-2/2026-12-02/
LOCATION:Zoom – Register for Link\, On Zoom\, OH
ATTACH;FMTTYPE=image/png:https://centeringspace.org/wp-content/uploads/2026/02/Reflective-prayer.png
END:VEVENT
BEGIN:VEVENT
DTSTART;TZID=America/New_York:20261209T190000
DTEND;TZID=America/New_York:20261209T200000
DTSTAMP:20260422T114519
CREATED:20260301T211700Z
LAST-MODIFIED:20260421T224734Z
UID:10003752-1796842800-1796846400@centeringspace.org
SUMMARY:Reflective Prayer #3 (Virtual Only)
DESCRIPTION:Wednesdays 7-8 pm ZOOM ONLY*\nJoin us online via Zoom for an evening of quiet reflective prayer. \nThe prayer includes input on a theme\, music\, silent reflection and optional sharing. \n*Please email centeringspacelakewood@gmail.com if you need the Zoom link. \n\n\n  \nPowered by
URL:https://centeringspace.org/programs/reflective-prayer-747-2-2-2-2/2026-12-09/
LOCATION:Zoom – Register for Link\, On Zoom\, OH
ATTACH;FMTTYPE=image/png:https://centeringspace.org/wp-content/uploads/2026/02/Reflective-prayer.png
END:VEVENT
BEGIN:VEVENT
DTSTART;TZID=America/New_York:20261216T190000
DTEND;TZID=America/New_York:20261216T200000
DTSTAMP:20260422T114519
CREATED:20260301T211700Z
LAST-MODIFIED:20260421T224734Z
UID:10003753-1797447600-1797451200@centeringspace.org
SUMMARY:Reflective Prayer #3 (Virtual Only)
DESCRIPTION:Wednesdays 7-8 pm ZOOM ONLY*\nJoin us online via Zoom for an evening of quiet reflective prayer. \nThe prayer includes input on a theme\, music\, silent reflection and optional sharing. \n*Please email centeringspacelakewood@gmail.com if you need the Zoom link. \n\n\n  \nPowered by
URL:https://centeringspace.org/programs/reflective-prayer-747-2-2-2-2/2026-12-16/
LOCATION:Zoom – Register for Link\, On Zoom\, OH
ATTACH;FMTTYPE=image/png:https://centeringspace.org/wp-content/uploads/2026/02/Reflective-prayer.png
END:VEVENT
END:VCALENDAR